BEGIN:VCALENDAR
PRODID:NingEventWidget-v1
VERSION:2.0
METHOD:PUBLISH
BEGIN:VEVENT
UID:2508951:Event:13173
DTSTAMP:20260425T173132Z
SUMMARY:Duchess Wilder Band @ Fat Tuesday's
DESCRIPTION:Nice cozy venue.. Fantastic food Great Music Good People\n
 \nFor more information visit https://vbnightlife.com/events/duchess-wi
 lder-band-fat
DTSTART:20090510T010000Z
DTEND:20090510T050000Z
CATEGORIES:party, with, the, duchess, wilder, band
LOCATION:Fat Tuesday's
WEBSITE:http://DuchessWilder.com
URL:http://DuchessWilder.com
CONTACT:757.498.5900
ORGANIZER;CN="Duchess Wilder":https://vbnightlife.com/profile/DuchessW
 ilder
ATTACH;FMTTYPE="image/jpeg":http://storage.ning.com/topology/rest/1.0/
 file/get/1664073291?profile=original
ATTENDEE;ROLE=REQ-PARTICIPANT;PARTSTAT=ACCEPTED;RSVP=TRUE;CN="Rolan St
 ears":https://vbnightlife.com/profile/RolanStears
ATTENDEE;ROLE=REQ-PARTICIPANT;PARTSTAT=ACCEPTED;RSVP=TRUE;CN="Duchess 
 Wilder":https://vbnightlife.com/profile/DuchessWilder
END:VEVENT
END:VCALENDAR
