BEGIN:VCALENDAR
PRODID:NingEventWidget-v1
VERSION:2.0
METHOD:PUBLISH
BEGIN:VEVENT
UID:2508951:Event:13211
DTSTAMP:20260420T170935Z
SUMMARY:Duchess Wilder Band @ Busky's
DESCRIPTION:Great Little place that locals hang out at. Fun Friendly p
 eople and close by...like a mini vacation. Great Food as well\n\nFor m
 ore information visit https://vbnightlife.com/events/duchess-wilder-ba
 nd-buskys
DTSTART:20090524T010000Z
DTEND:20090524T050000Z
CATEGORIES:fun, "friday...", party, with, the, duchess
LOCATION:Busky's
WEBSITE:http://www.DuchessWilder.com
URL:http://www.DuchessWilder.com
CONTACT:
ORGANIZER;CN="Duchess Wilder":https://vbnightlife.com/profile/DuchessW
 ilder
ATTACH;FMTTYPE="image/jpeg":http://storage.ning.com/topology/rest/1.0/
 file/get/1664074149?profile=original
ATTENDEE;ROLE=REQ-PARTICIPANT;PARTSTAT=ACCEPTED;RSVP=TRUE;CN="Duchess 
 Wilder":https://vbnightlife.com/profile/DuchessWilder
END:VEVENT
END:VCALENDAR
