BEGIN:VCALENDAR
PRODID:NingEventWidget-v1
VERSION:2.0
METHOD:PUBLISH
BEGIN:VEVENT
UID:2508951:Event:23646
DTSTAMP:20260422T044301Z
SUMMARY:Duchess Wilder Band @ Boneshakers
DESCRIPTION:Duchess Wilder and the band will be playing on the deck fo
 r the Boneshakers Blues on the Deck Party. The Show starts at 3:00 in 
 the afternoon, so get there early. It's sure to be a fun afternoon wit
 h some great music and food.\n\nFor more information visit https://vbn
 ightlife.com/events/duchess-wilder-band-1
DTSTART:20091018T190000Z
DTEND:20091018T230000Z
CATEGORIES:live, music, food
LOCATION:Boneshakers
WEBSITE:
URL:
CONTACT:
ORGANIZER:
ATTACH;FMTTYPE="image/jpeg":http://storage.ning.com/topology/rest/1.0/
 file/get/1664090157?profile=original
ATTENDEE;ROLE=REQ-PARTICIPANT;PARTSTAT=ACCEPTED;RSVP=TRUE;CN="Duchess 
 Wilder":https://vbnightlife.com/profile/DuchessWilder
END:VEVENT
END:VCALENDAR
