BEGIN:VCALENDAR
PRODID:NingEventWidget-v1
VERSION:2.0
METHOD:PUBLISH
BEGIN:VEVENT
UID:2508951:Event:324139
DTSTAMP:20260423T065006Z
SUMMARY:DUBLIN 5 AT MURPHY'S IRISH PUB
DESCRIPTION:This Saturday Murphy's is the place to be! Murphy's is kic
 king off the first leg of their Irish concert series with Dublin 5 fro
 m Annapolis Maryland. This is the first of 5 concerts throughout the y
 ear that will feature the best Irish bands from across the country.\n 
 Dublin 5 has taken the Celtic music scene by storm thanks to an eclect
 ic mix of traditional roots and blazing instrumentals with an amped up
  rock twist. Their musicianship and show is nothing short of high octa
 ne. Their fan base is continually expanding and covers people of all a
 ges from all walks of life. The name Dublin 5 is the region in Ireland
  where Ray Murphy, lead singer in the band, grew up as a child.\n\nSEE
  MORE INFORMATION ON THE BAND HERE: http://www.dublinfive.com/\n\n\n\
 nFor more information visit https://vbnightlife.com/events/dublin-5-at
 -murphy-s-irish-pub
DTSTART:20160117T020000Z
DTEND:20160117T063000Z
CATEGORIES:"murphy's irish pub", "irish music series"
LOCATION:Murphy's Irish Pub
WEBSITE:
URL:
CONTACT:(757) 417-7701
ORGANIZER:Murphy's Irish Pub
ATTACH;FMTTYPE="image/jpeg":http://storage.ning.com/topology/rest/1.0/
 file/get/1664299122?profile=original
ATTENDEE;ROLE=REQ-PARTICIPANT;PARTSTAT=ACCEPTED;RSVP=TRUE;CN="VBnightl
 ife.com":https://vbnightlife.com/profile/admin
END:VEVENT
END:VCALENDAR
