BEGIN:VCALENDAR
PRODID:NingEventWidget-v1
VERSION:2.0
METHOD:PUBLISH
BEGIN:VEVENT
UID:2508951:Event:199598
DTSTAMP:20260423T002519Z
SUMMARY:SUNDAY FUNDAY BEACH BASH FEATURING CHEAP THRILLS
DESCRIPTION:**JUST ANNOUNCED** We will be giving away 2 VIP tickets to
  Sara Evans concert next Friday as well as VIP to Daughtry at Chesape
 ake City ParkAugust 17.   Find a member of our VBnightlife staff  f
 or a raffle ticket when you arrive at the Sunset Grille.  Drawings wi
 ll be held between 4 and 5pm! \n\nSunday July 8th VBnightlife is host
 ing it's first ever beach bash on location at one of our sponsors and 
 a beautiful resort.  Sunset Beach Resort and Grille (aka the Tiki Bar
 ) on the Eastern Shore is located just across the bridge!  This will 
 be an awesome afternoon away from it all.  So take your friends, your
  boat, car, taxi or limo and join us!     http://vbnightlife.com/ev
 ents/drive-or-boat-to-sunday-funday-beach-bash-feat-cheap-thrills\n \
 nLocal Favorite Cheap Thrills will be entertaining us beginning at 2p
 m. Expect the unexpected with Cheap Thrills.  Covering genres rangi
 ng from rock to pop to hip hop, Cheap Thrills delivers it all.  They
  will have you singing and dancing to songs by artists such as Michael
  Jackson, Justin Timberlake, John Mayer and tons more.  This band ca
 n entertain any crowd; they have a love and passion for music that is 
 evident during every performance.  Members of Cheap Thrills have sha
 red the stage with some big acts, such as Destiny’s Child, N*E*R*D, 
 Ashanti and Chris Brown. Full of energy and hype, this band will leave
  you wanting more. Cheap thrills is your bands favorite band.\n\nThe S
 unset Grille http://www.sunsetbeachresortva.com/grille/ is the place
  to dine and the place for fun on the lower Eastern Shore. We offer so
 me of the finest, yet casual and reasonably priced, dining on the Delm
 arva Peninsula. The Sunset Grille offers an assortment of domestic and
  imported beers. The limited wine list includes local vineyards featur
 ing wines that pair well with the seafood of the Eastern Shore.  Their
  Beach Party weekends feature live musical entertainment every Saturd
 ay, Sunday, and all holidays! As always, we provide frequent entertain
 ment updates on our Facebook page. \"Like Us\" on Facebook to receive 
 updates.\n\nIf you drive, they will deduct the return toll off your ch
 eck. \n\nDrink, Food and Room specials:  The Sunset Grille is offeri
 ng us an exclusive VBnightlife discount of 10% off the regular menu, $
 1 off all drinks and $89 room rate at the Sunset Beach Resort this Sun
 day Only!!!!\n\nMap and Directions here:  \nhttp://www.mapquest.com/m
 aps?address=32246%20Lankford%20Hwy&city=Cape%20Charles&state=VA&zipcod
 e=23310\n\n\n \n\n \n\n \n\nFor more information visit https://vbni
 ghtlife.com/events/drive-or-boat-to-sunday-funday-beach-bash-feat-chea
 p-thrills
DTSTART:20120708T180000Z
DTEND:20120708T220000Z
CATEGORIES:"sunday funday"
LOCATION:Sunset Grille
WEBSITE:
URL:
CONTACT:757 331-4229
ORGANIZER:VBnightlife.com / VBdaylife.com
ATTACH;FMTTYPE="image/jpeg":http://storage.ning.com/topology/rest/1.0/
 file/get/1664177524?profile=original
ATTENDEE;ROLE=REQ-PARTICIPANT;PARTSTAT=ACCEPTED;RSVP=TRUE;CN="VBnightl
 ife.com":https://vbnightlife.com/profile/admin
END:VEVENT
END:VCALENDAR
