BEGIN:VCALENDAR
PRODID:NingEventWidget-v1
VERSION:2.0
METHOD:PUBLISH
BEGIN:VEVENT
UID:2508951:Event:298020
DTSTAMP:20260422T050412Z
SUMMARY:Dr. Eben Alexander III Neurosurgeon and Author
DESCRIPTION: Dr. Eben Alexander, a renowned academic neurosurgeon, spe
 nt over three decades honing his scientific world view. During his aca
 demic career, he authored or co-authored over 150 chapters and papers 
 in peer reviewed journals, and made over 200 presentations at conferen
 ces and medical centers around the world. He thought he knew how the b
 rain, mind and consciousness worked. \nThat was until a transcendenta
 l near-death experience, in which he was driven to the brink of death 
 and spent a week deep in coma from an inexplicable brain infection, ch
 anged all of that. On the seventh day,to the surprise of everyone, he 
 started to awaken. Memories of his life hadcbeen completely deleted in
 side of coma, yet he awoke with memories of a fantastic odyssey deep i
 nto another realm. While his body lay in coma, Alexander journeyed bey
 ond this world and encountered an angelic being who guided him into th
 e deepest realms ofsuperphysical existence. There he claims to have me
 t, and spoke with, the Divine source of the universe itself. \nAlexan
 der has been blessed with a complete recovery, and has written a book,
  Proof of Heaven: A Neurosurgeon’s Journey into the Afterlife. This
  story would be remarkable no matter who it happened to. That it happe
 ned to Alexander makes it revolutionary. No scientist or person of fai
 th will be able to ignore it. \n          Eben Alexander Biogr
 aphy             Dr. Eben Alexander on ABC-TV/ Good Morning A
 merica             Dr. Eben Alexander on ABC-TV/ World News T
 onight with Diane Sawyer             7 Network. Sunday Night.
  Proof of Heaven. Eben Alexander's touch with heaven\n\nPurchase your 
 tickets here: Sandler Center Box Office\n\nFor more information visit
  https://vbnightlife.com/events/dr-eben-alexander-iii-neurosurgeon-and
 -author
DTSTART:20141029T233000Z
DTEND:20141030T003000Z
CATEGORIES:"virginia beach forum", educational
LOCATION:Sandler Center for the Performing Arts
WEBSITE:
URL:
CONTACT:
ORGANIZER:VBnightlife.com / Virginia Beach Forum
ATTACH;FMTTYPE="image/jpeg":http://storage.ning.com/topology/rest/1.0/
 file/get/1664252173?profile=original
ATTENDEE;ROLE=REQ-PARTICIPANT;PARTSTAT=ACCEPTED;RSVP=TRUE;CN="VBnightl
 ife.com":https://vbnightlife.com/profile/admin
END:VEVENT
END:VCALENDAR
