BEGIN:VCALENDAR
PRODID:NingEventWidget-v1
VERSION:2.0
METHOD:PUBLISH
BEGIN:VEVENT
UID:2508951:Event:344436
DTSTAMP:20260425T165041Z
SUMMARY:For a List of Events - Download the VBnightlife Mobile App
DESCRIPTION:Download the VBnightlife mobile app for a List of Events, 
 Deals, Coupons, Happy Hour, Live Music, Restaurant Recommendations and
  More\nSearch VBnightlife in the app stores or use this link from a mo
 bile device: onelink.to/yae3t5\n\n\nFor more information visit https:
 //vbnightlife.com/events/download-the-vbnightlife-mobile-app-to-find-e
 vents-deals-coupons-
DTSTART:20170612T220000Z
DTEND:20180331T230000Z
CATEGORIES:vbnightlife
LOCATION:Virginia Beach, VA
WEBSITE:
URL:
CONTACT:7576520808
ORGANIZER;CN="VBnightlife.com":https://vbnightlife.com/profile/admin
ATTACH;FMTTYPE="image/jpeg":http://storage.ning.com/topology/rest/1.0/
 file/get/1664318404?profile=original
ATTENDEE;ROLE=REQ-PARTICIPANT;PARTSTAT=ACCEPTED;RSVP=TRUE;CN="VBnightl
 ife.com":https://vbnightlife.com/profile/admin
END:VEVENT
END:VCALENDAR
