BEGIN:VCALENDAR
PRODID:NingEventWidget-v1
VERSION:2.0
METHOD:PUBLISH
BEGIN:VEVENT
UID:2508951:Event:146534
DTSTAMP:20260424T213822Z
SUMMARY:Doug Dunn and Steel River @ Boneshakers Sports Bar
DESCRIPTION:https://www.facebook.com/#!/pages/Doug-Dunn/262397344690\n
  \n\nFor more information visit https://vbnightlife.com/events/doug-d
 unn-and-steel-river-2
DTSTART:20110612T003000Z
DTEND:20110612T043000Z
CATEGORIES:"rockin'", county, night, "@", boneshakers
LOCATION:Boneshakers Sports Bar and Grill
WEBSITE:
URL:
CONTACT:
ORGANIZER:Steel River Productions
ATTACH;FMTTYPE="image/jpeg":http://storage.ning.com/topology/rest/1.0/
 file/get/1664144681?profile=original
ATTENDEE;ROLE=REQ-PARTICIPANT;PARTSTAT=ACCEPTED;RSVP=TRUE;CN="Lynda Do
 ran Zimmerly":https://vbnightlife.com/profile/LyndaDoranZimmerly
END:VEVENT
END:VCALENDAR
