BEGIN:VCALENDAR
PRODID:NingEventWidget-v1
VERSION:2.0
METHOD:PUBLISH
BEGIN:VEVENT
UID:2508951:Event:100710
DTSTAMP:20260423T132756Z
SUMMARY:Doug Dunn and Steel River  @ Greenie's
DESCRIPTION:The deck is open! Come sit on the deck and party with Doug
  Dunn and Steel River\n\nFor more information visit https://vbnightlif
 e.com/events/doug-dunn-and-steel-river-1
DTSTART:20110409T003000Z
DTEND:20110409T043000Z
CATEGORIES:party, on, the, "deck!"
LOCATION:Greenie's
WEBSITE:http://www.facebook.com/note.php?note_id=57946453824#!/pages/G
 reenies-Restaurant/132695846744731
URL:http://www.facebook.com/note.php?note_id=57946453824#!/pages/Green
 ies-Restaurant/132695846744731
CONTACT:
ORGANIZER:Doug Dunn and Steel River
ATTACH;FMTTYPE="image/jpeg":http://storage.ning.com/topology/rest/1.0/
 file/get/1664136249?profile=original
ATTENDEE;ROLE=REQ-PARTICIPANT;PARTSTAT=ACCEPTED;RSVP=TRUE;CN="Lynda Do
 ran Zimmerly":https://vbnightlife.com/profile/LyndaDoranZimmerly
END:VEVENT
END:VCALENDAR
