BEGIN:VCALENDAR
PRODID:NingEventWidget-v1
VERSION:2.0
METHOD:PUBLISH
BEGIN:VEVENT
UID:2508951:Event:189365
DTSTAMP:20260423T103343Z
SUMMARY:Doodah's Day A Celebration of Life Remembering Don Womack
DESCRIPTION:Doodah's Day - A Celebration of Life Remembering Don Woma
 ck, will take place on Sunday, Feb 19that the old Waterside Listening
  Room (the old Dockmaster's, now Elements) inside Waterside in Norfol
 k, VA at 4:20 pm. \n\nFor more information visit https://vbnightlife.
 com/events/doodah-s-day-a-celebration-of-life-remembering-don-womack
DTSTART:20120219T050000Z
DTEND:20120220T045900Z
CATEGORIES:"don womack"
LOCATION:Elements of Waterside
WEBSITE:
URL:
CONTACT:
ORGANIZER;CN="VBnightlife.com":https://vbnightlife.com/profile/admin
ATTACH;FMTTYPE="image/jpeg":http://storage.ning.com/topology/rest/1.0/
 file/get/1664164761?profile=original
ATTENDEE;ROLE=REQ-PARTICIPANT;PARTSTAT=ACCEPTED;RSVP=TRUE;CN="VBnightl
 ife.com":https://vbnightlife.com/profile/admin
END:VEVENT
END:VCALENDAR
