BEGIN:VCALENDAR
PRODID:NingEventWidget-v1
VERSION:2.0
METHOD:PUBLISH
BEGIN:VEVENT
UID:2508951:Event:185476
DTSTAMP:20260423T120429Z
SUMMARY:DOES HAMPTON ROADS HAVE TALENT?  SEMI-FINALS ROUND 2
DESCRIPTION:Does Hampton Roads Have Talent? We believe it does! Come o
 ut to Retro Cafe at 2218 Atlantic Ave, Virginia Beach on Tuesday Janua
 ry 17th between 7 & 11 to support local music and see some amazing per
 formers.  It is free to get in, Happy Hour is $2 wells and domestics
  5 to 9.  If you decide to vote for your favorite performer, your $7 
 donation goes to the CHKD!\n\nClick here to get to know each of the pe
 rformers a little better by reading their interviews:  RETRO INTERVIE
 WS BY SARA DANSEY\n \nTHIS IS THE SEMI-FINAL ROUND.  WINNER PROCEEDS
  TO AMERICA'S GOT TALENT! COME OUT AND VOTE FOR YOUR FAVORITE LOCAL M
 USICIAN!\nCLICK the links below to see a YouTube video of their last p
 erformance:\n 1.  Jocelyn Oldham\n2.  Jon Guilfoyle\n3.  Haley Baus
 er\n4.  Isaac Gay\n5.  Kevin Mac and the Shownuffs\n They are battli
 ng it out for a grand prize of $2000 & the winner will be sent to Amer
 ica's Got Talent!!!  $7 voting tickets include: 1 Drink ticket 1 Votin
 g ticket $1 goes to CHKD  *50/50 tickets include: 10 tickets for $5 a 
 chance to win a raffle of the 50% of the proceeds the other 50% of the
  proceeds will go to CHKD  for further information please call\nNicole
  Maxino\n757 652 0808 \nor Sara Dansey 757-528-5402\n\n\n\nFor more i
 nformation visit https://vbnightlife.com/events/does-hampton-roads-hav
 e-talent-semi-finals
DTSTART:20120118T000000Z
DTEND:20120118T040000Z
CATEGORIES:fundraiser, "talent competition"
LOCATION:RETRO CAFE
WEBSITE:
URL:
CONTACT:
ORGANIZER;CN="VBnightlife.com":https://vbnightlife.com/profile/admin
ATTACH;FMTTYPE="image/jpeg":http://storage.ning.com/topology/rest/1.0/
 file/get/1664160453?profile=original
ATTENDEE;ROLE=REQ-PARTICIPANT;PARTSTAT=ACCEPTED;RSVP=TRUE;CN="VBnightl
 ife.com":https://vbnightlife.com/profile/admin
ATTENDEE;ROLE=REQ-PARTICIPANT;PARTSTAT=ACCEPTED;RSVP=TRUE;CN="Daniela 
 Gaudino":https://vbnightlife.com/profile/DanielaGaudino
ATTENDEE;ROLE=REQ-PARTICIPANT;PARTSTAT=TENTATIVE;RSVP=TRUE;CN="Rick Sp
 ruill (Elvisiam.com)":https://vbnightlife.com/profile/RickSpruillElvis
 iamcom
END:VEVENT
END:VCALENDAR
