BEGIN:VCALENDAR
PRODID:NingEventWidget-v1
VERSION:2.0
METHOD:PUBLISH
BEGIN:VEVENT
UID:2508951:Event:10149
DTSTAMP:20260425T155512Z
SUMMARY:DKR @ 757
DESCRIPTION:2401 Seaboard Rd\n\n9:30 to 1am\n\nFor more information vi
 sit https://vbnightlife.com/events/dkr-757
DTSTART:20090403T040000Z
DTEND:20090404T035900Z
CATEGORIES:band
LOCATION:757
WEBSITE:
URL:
CONTACT:
ORGANIZER:757
ATTACH;FMTTYPE="image/jpeg":http://storage.ning.com/topology/rest/1.0/
 file/get/1664070428?profile=original
ATTENDEE;ROLE=REQ-PARTICIPANT;PARTSTAT=ACCEPTED;RSVP=TRUE;CN="Nicole M
 axino":https://vbnightlife.com/profile/NicoleMaxino
END:VEVENT
END:VCALENDAR
