BEGIN:VCALENDAR
PRODID:NingEventWidget-v1
VERSION:2.0
METHOD:PUBLISH
BEGIN:VEVENT
UID:2508951:Event:10813
DTSTAMP:20260425T202635Z
SUMMARY:DJ VITALI @ TIME
DESCRIPTION:time lounge on Granby in Norfolk - Jamies special B-day pa
 rty\n\nFor more information visit https://vbnightlife.com/events/dj-vi
 tali-time
DTSTART:20090409T040000Z
DTEND:20090410T035900Z
CATEGORIES:dj
LOCATION:Time Lounge - Granby
WEBSITE:
URL:
CONTACT:
ORGANIZER;CN="Nicole Maxino":https://vbnightlife.com/profile/NicoleMax
 ino
ATTACH;FMTTYPE="image/jpeg":http://storage.ning.com/topology/rest/1.0/
 file/get/1664070762?profile=original
ATTENDEE;ROLE=REQ-PARTICIPANT;PARTSTAT=ACCEPTED;RSVP=TRUE;CN="Nicole M
 axino":https://vbnightlife.com/profile/NicoleMaxino
END:VEVENT
END:VCALENDAR
