BEGIN:VCALENDAR
PRODID:NingEventWidget-v1
VERSION:2.0
METHOD:PUBLISH
BEGIN:VEVENT
UID:2508951:Event:6514
DTSTAMP:20260425T215927Z
SUMMARY:DJ VITALI @ AVANTI !!!!!!!!!!!!!!!
DESCRIPTION:TONIGHT FROM 6PM - 2AM COME ENJOY DINNER AND DRINKS AND TH
 EN STAY FOR THE HOTTEST HOUSE PARTY DIRTY DISCO WITH DJ VITALI FOR DIN
 NER AND TABLE RESERVATIONS PLEASE CONTACT 757-292-8600.\n\nFor more in
 formation visit https://vbnightlife.com/events/dj-vitali-avanti
DTSTART:20090410T040000Z
DTEND:20090411T035900Z
CATEGORIES:dj
LOCATION:Avanti
WEBSITE:
URL:
CONTACT:
ORGANIZER:Avanti
ATTACH;FMTTYPE="image/jpeg":http://storage.ning.com/topology/rest/1.0/
 file/get/1664070405?profile=original
ATTENDEE;ROLE=REQ-PARTICIPANT;PARTSTAT=ACCEPTED;RSVP=TRUE;CN="Nicole M
 axino":https://vbnightlife.com/profile/NicoleMaxino
ATTENDEE;ROLE=REQ-PARTICIPANT;PARTSTAT=ACCEPTED;RSVP=TRUE;CN=Tiffany:h
 ttps://vbnightlife.com/profile/Tiffany
END:VEVENT
END:VCALENDAR
