BEGIN:VCALENDAR
PRODID:NingEventWidget-v1
VERSION:2.0
METHOD:PUBLISH
BEGIN:VEVENT
UID:2508951:Event:10806
DTSTAMP:20260425T160401Z
SUMMARY:DJ JOE FU @ THE NORFOLK EDGE
DESCRIPTION:with AYCE Sushi from the Sushi Factory\n\n7:30pm to 2am\n\
 nFor more information visit https://vbnightlife.com/events/dj-joe-fu-t
 he-norfolk-edge
DTSTART:20090408T040000Z
DTEND:20090409T035900Z
CATEGORIES:dj
LOCATION:The Edge Norfolk
WEBSITE:
URL:
CONTACT:
ORGANIZER:The Edge Norfolk
ATTACH;FMTTYPE="image/jpeg":http://storage.ning.com/topology/rest/1.0/
 file/get/1664070645?profile=original
ATTENDEE;ROLE=REQ-PARTICIPANT;PARTSTAT=ACCEPTED;RSVP=TRUE;CN="Nicole M
 axino":https://vbnightlife.com/profile/NicoleMaxino
END:VEVENT
END:VCALENDAR
