BEGIN:VCALENDAR
PRODID:NingEventWidget-v1
VERSION:2.0
METHOD:PUBLISH
BEGIN:VEVENT
UID:2508951:Event:84554
DTSTAMP:20260423T120332Z
SUMMARY:DIVE FOR A CURE!
DESCRIPTION:CANCER…Let’s Beat It!   We invite you to join the fu
 n and help us raise money to fight cancer!  Dive For A Cure is a 24-h
 r underwater scuba marathon and this year marks the 15th year for this
  amazing and fun event to battle cancer!  To date, we have raised ove
 r $450,000 and our goal for this year is $50,000 but we need YOUR help
 !\n Check out the news piece from our 2010 event covered by Wavy 10! 
 http://www.wavy.com/dpp/news/local_news/diving-to-raise-money-for-canc
 er\n \nHosted by the Hillier-LaRose Foundation (http://hillierlarosef
 oundation.org) this wonderful event will benefit the following charit
 ies:\n\nAmerican Cancer Society www.cancer.org\nCancer Care Foundation
  of Tidewater (CCFOT) http://ccfot.org\nFoundation for Applied Researc
 h in Gastrointestinal Oncology (FARGO) www.surgicaloncology.com/soafar
 go\n\nHow can I help??\n\nFor those that want to take the plunge, get 
 suited up and jump in!  NO EXPERIENCE NEEDED.  Certified instructors
  are on site to teach you how to scuba dive so that you can be a part 
 of the fun!\nTry your luck at the 50/50 Raffle.  Drawing will be held
  April 9th.\nBuy a really AWESOME t-shirt\nDonate online at http://hil
 lierlarosefoundation.org/d4c\nMake a check payable to “HLF” and pl
 ease reference D4C on your check.  Mail it to: LDC Adventure Outfitte
 rs 1413 N. Great Neck Rd. Virginia Beach, VA\n\nFriday Night at 6pm th
 e party kicks off!  A DJ to keep the party rockin’, cornhole tourna
 ment, come bid on your favorite cutie at the bachelor/bachelorette auc
 tion, various tournaments and even some really awesome prizes!  Cater
 ing to be provided by local restaurants. \nSaturday Morning – Come 
 back out for a family fun day and enjoy the BBQ, moonbounce, 50/50 raf
 fle drawing, kids games/karaoke, and dedications.\n \nCost: $5 donati
 on at the door\n\nFor more information visit https://vbnightlife.com/e
 vents/dive-for-a-cure
DTSTART:20110408T150000Z
DTEND:20110409T150000Z
CATEGORIES:fundraiser
LOCATION:LDC Adventure Outfitters (also known as Lynnhaven Dive Center
 )
WEBSITE:http://www.ldcscuba.com
URL:http://www.ldcscuba.com
CONTACT:757-481-7949
ORGANIZER:Lindsey Hillier
ATTACH;FMTTYPE="image/jpeg":http://storage.ning.com/topology/rest/1.0/
 file/get/1664137799?profile=original
ATTENDEE;ROLE=REQ-PARTICIPANT;PARTSTAT=ACCEPTED;RSVP=TRUE;CN="Tiffany 
 Capehart":https://vbnightlife.com/profile/TiffanyCapehart
END:VEVENT
END:VCALENDAR
