BEGIN:VCALENDAR
PRODID:NingEventWidget-v1
VERSION:2.0
METHOD:PUBLISH
BEGIN:VEVENT
UID:2508951:Event:114559
DTSTAMP:20260421T180651Z
SUMMARY:DISTRACTED DRIVING AWARENESS AT GREEN RUN HIGH SCHOOL
DESCRIPTION:\n\nFor more information visit https://vbnightlife.com/eve
 nts/distracted-driving-awareness
DTSTART:20110426T220000Z
DTEND:20110427T000000Z
CATEGORIES:family
LOCATION:GREEN RUN HIGH SCHOOL
WEBSITE:
URL:
CONTACT:
ORGANIZER:VBnightlife.com / VBdaylife.com
ATTACH;FMTTYPE="image/jpeg":http://storage.ning.com/topology/rest/1.0/
 file/get/1664139830?profile=original
ATTENDEE;ROLE=REQ-PARTICIPANT;PARTSTAT=ACCEPTED;RSVP=TRUE;CN="VBnightl
 ife.com":https://vbnightlife.com/profile/admin
END:VEVENT
END:VCALENDAR
