BEGIN:VCALENDAR
PRODID:NingEventWidget-v1
VERSION:2.0
METHOD:PUBLISH
BEGIN:VEVENT
UID:2508951:Event:282971
DTSTAMP:20260421T041903Z
SUMMARY:THE NOBLEMEN PUNGO WINE FESTIVAL
DESCRIPTION:\n\nTHIS DEAL IS OVER.  HOWEVER, TICKETS ARE STILL AVAILA
 BLE ON THE NOBLEMEN WEBSITE AT WWW.THENOBLEMEN.ORG/EVENTS FOR ONLY $30
 .  THEY WILL BE $35 AT THE DOOR.  HOPE TO SEE YOU THERE!\n\n\nCome o
 ut to Back Bay Farms and enjoy this one of a kind wine festival in the
  heart of Pungo. \nTicket includes UNLIMITED Wine Tasting and Live En
 tertainment.\nThe 2014 Pungo Wine Festival features 12 Virginia wineri
 es with tastings and full bottle sales.\nCraft beers will also be avai
 lable for sale.\nBring a blanket or chair and enjoy live music by Seth
  Stainback & Roosterfoot and Pete Hansen.  \nHelp Raise Money For \"L
 ocal Kids In Need\"! The \"Noblemen\" raised over $1,000,000 over just
  the past year alone in donations and community impact for local kids!
 \nAs an added bonus, this year's festival is Mother's Day weekend so t
 reat your mother to a relaxing afternoon of wine, food and live music.
  \nLOCATION - Back Bay Farms In Pungo - Picturesque 80 Acre Horse Far
 m!\nLocal artists will also be onsite for you to browse while sipping 
 your beer & wine!\nBBQ with all the fixings will be sold onsite\nDON'T
  FORGET YOUR PICNIC BASKETS, BLANKETS & CHAIRS!\n\nWhat's the Catch?\n
 \nThis is a rain or shine event; All sales are final.\nPurchase as ma
 ny as you like for yourself or as gifts!\n\n\n\nFor more information v
 isit https://vbnightlife.com/events/discount-tickets-to-the-noblemen-p
 ungo-wine-festival
DTSTART:20140510T040000Z
DTEND:20140511T035900Z
CATEGORIES:fundraiser, "the noblemen", "pungo wine festival"
LOCATION:Back Bay Farms
WEBSITE:
URL:
CONTACT:
ORGANIZER;CN="VBnightlife.com":https://vbnightlife.com/profile/admin
ATTACH;FMTTYPE="image/jpeg":http://storage.ning.com/topology/rest/1.0/
 file/get/1664231293?profile=original
ATTENDEE;ROLE=REQ-PARTICIPANT;PARTSTAT=ACCEPTED;RSVP=TRUE;CN="VBnightl
 ife.com":https://vbnightlife.com/profile/admin
ATTENDEE;ROLE=REQ-PARTICIPANT;PARTSTAT=ACCEPTED;RSVP=TRUE;CN=Yogi:http
 s://vbnightlife.com/profile/Yogi
END:VEVENT
END:VCALENDAR
