BEGIN:VCALENDAR
PRODID:NingEventWidget-v1
VERSION:2.0
METHOD:PUBLISH
BEGIN:VEVENT
UID:2508951:Event:114376
DTSTAMP:20260421T114847Z
SUMMARY:DINING OUT FOR LIFE AT SURF CLUB OCEAN GRILLE
DESCRIPTION:\n\nFor more information visit https://vbnightlife.com/eve
 nts/dining-out-for-life-at-surf
DTSTART:20110428T220000Z
DTEND:20110429T020000Z
CATEGORIES:fundraiser
LOCATION:SURF CLUB OCEAN GRILL AT THE WYNDHAM
WEBSITE:
URL:
CONTACT:
ORGANIZER;CN="VBnightlife.com":https://vbnightlife.com/profile/admin
ATTACH;FMTTYPE="image/jpeg":http://storage.ning.com/topology/rest/1.0/
 file/get/1664139484?profile=original
ATTENDEE;ROLE=REQ-PARTICIPANT;PARTSTAT=ACCEPTED;RSVP=TRUE;CN="VBnightl
 ife.com":https://vbnightlife.com/profile/admin
END:VEVENT
END:VCALENDAR
