BEGIN:VCALENDAR
PRODID:NingEventWidget-v1
VERSION:2.0
METHOD:PUBLISH
BEGIN:VEVENT
UID:2508951:Event:158852
DTSTAMP:20260423T205058Z
SUMMARY:DIERKS BENTLEY @ J.E.B. Little Creek *FREE CONCERT*
DESCRIPTION:2011 NAVY CONCERT AT JEB LITTLE CREEK\nMark your calendars
  now to attend the Dierks Bentley concert on JEB Little Creek on 22 J
 uly! It is FREE and open to the public!\nGates will open at 5 p.m. wi
 th the show starting at 7 p.m.\n \nAttendance at the concerts does no
 t require a base pass or Department of Defense sticker. Those who do n
 ot have a Department of Defense decal must enter through Gate 3 of JEB
  Little Creek located on Shore Drive between Diamond Springs Road and 
 Independence Boulevard.\n \nPatrons are reminded that tail-gating, co
 olers, glass containers, video equipment and pets are not permitted in
  the concert area. All bags, backpacks, blankets, chairs and other ite
 ms may be searched prior to entering concert grounds.\n \nFor more in
 formation about the concert please click the link below http://issuu.
 com/david.a.j​ohnson13/docs/dierks_bentl​ey_flyer?mode=a_por call 
 (757) 462-4320.\n\nFor more information visit https://vbnightlife.com/
 events/dierks-bentley-j-e-b-little-cr
DTSTART:20110722T220000Z
DTEND:20110723T010000Z
CATEGORIES:"virginia beach events", "virginia beach entertainment", "v
 irginia beach music", "family fun", "virginia beach military", "countr
 y music"
LOCATION:Joint Expeditionary Base Little Creek
WEBSITE:
URL:
CONTACT:
ORGANIZER:VBnightlife.com / VBdaylife.com / NorfolkNightlife.com
ATTACH;FMTTYPE="image/jpeg":http://storage.ning.com/topology/rest/1.0/
 file/get/1664147996?profile=original
ATTENDEE;ROLE=REQ-PARTICIPANT;PARTSTAT=ACCEPTED;RSVP=TRUE;CN="VBnightl
 ife.com":https://vbnightlife.com/profile/admin
END:VEVENT
END:VCALENDAR
