BEGIN:VCALENDAR
PRODID:NingEventWidget-v1
VERSION:2.0
METHOD:PUBLISH
BEGIN:VEVENT
UID:2508951:Event:10239
DTSTAMP:20260425T160350Z
SUMMARY:DELOREAN'S @ 15TH STREET RAW BAR
DESCRIPTION:9pm\n\n\"The DeLoreans\" have recently been named \"The Ho
 ttest 80's show band in the U.S.\". Bringing you hits from the New Wav
 e, Pop and Rock scenes of the 1980's-- complete with two sexy \"chicks
 \" and a Billy Idol. That, coupled with big lights and sound, flashy c
 ostumes, and eccentric personality; makes for a \"totally awesome\" tr
 ip back in time!\n\nFor more information visit https://vbnightlife.com
 /events/deloreans-15th-street-raw-bar
DTSTART:20090403T040000Z
DTEND:20090404T035900Z
CATEGORIES:band
LOCATION:15th Street Raw Bar
WEBSITE:
URL:
CONTACT:
ORGANIZER:15th Street Raw Bar
ATTACH;FMTTYPE="image/jpeg":http://storage.ning.com/topology/rest/1.0/
 file/get/1664072826?profile=original
ATTENDEE;ROLE=REQ-PARTICIPANT;PARTSTAT=ACCEPTED;RSVP=TRUE;CN="Nicole M
 axino":https://vbnightlife.com/profile/NicoleMaxino
END:VEVENT
END:VCALENDAR
