BEGIN:VCALENDAR
PRODID:NingEventWidget-v1
VERSION:2.0
METHOD:PUBLISH
BEGIN:VEVENT
UID:2508951:Event:141548
DTSTAMP:20260424T172126Z
SUMMARY:DEJA's oceanfront beach tour rolls on at 24th St.
DESCRIPTION:DEJA rox the beach at the 24th St. Pavillion.\n\nFor more 
 information visit https://vbnightlife.com/events/dejas-oceanfront-beac
 h-tour
DTSTART:20110629T000000Z
DTEND:20110629T023000Z
CATEGORIES:live, music, performance
LOCATION:24th St. - Atlantice Ave. - Oceanfront
WEBSITE:http://www.dejaband.net
URL:http://www.dejaband.net
CONTACT:(757) 714-2516 - Drew
ORGANIZER;CN="Drew Thow - DEJA":https://vbnightlife.com/profile/DrewTh
 owDEJA
ATTACH;FMTTYPE="image/jpeg":
ATTENDEE;ROLE=REQ-PARTICIPANT;PARTSTAT=ACCEPTED;RSVP=TRUE;CN="Drew Tho
 w - DEJA":https://vbnightlife.com/profile/DrewThowDEJA
END:VEVENT
END:VCALENDAR
