BEGIN:VCALENDAR
PRODID:NingEventWidget-v1
VERSION:2.0
METHOD:PUBLISH
BEGIN:VEVENT
UID:2508951:Event:200633
DTSTAMP:20260423T002338Z
SUMMARY:DEJA rox the Oceanfront @ Mahi Mah's
DESCRIPTION:Come out and get your weekend started RIGHT - with us at M
 ahi Mah's/Chix - 7th St. on the Boardwalk!\nWe'll ROCK this Friday the
  13th right!\n\nFor more information visit https://vbnightlife.com/eve
 nts/deja-rox-the-oceanfront-mahi-mah-s
DTSTART:20120713T230000Z
DTEND:20120714T030000Z
CATEGORIES:live, music, performance
LOCATION:Mahi Mah's - Chix Cafe
WEBSITE:http://www.mahimahs.com
URL:http://www.mahimahs.com
CONTACT:757-437-8030
ORGANIZER;CN="Drew Thow - DEJA":https://vbnightlife.com/profile/DrewTh
 owDEJA
ATTACH;FMTTYPE="image/jpeg":http://storage.ning.com/topology/rest/1.0/
 file/get/1664177451?profile=original
ATTENDEE;ROLE=REQ-PARTICIPANT;PARTSTAT=ACCEPTED;RSVP=TRUE;CN="Drew Tho
 w - DEJA":https://vbnightlife.com/profile/DrewThowDEJA
END:VEVENT
END:VCALENDAR
