BEGIN:VCALENDAR
PRODID:NingEventWidget-v1
VERSION:2.0
METHOD:PUBLISH
BEGIN:VEVENT
UID:2508951:Event:200714
DTSTAMP:20260420T022116Z
SUMMARY:DEJA rox Scandals on Saturday, July 14th
DESCRIPTION:Bring it out to where it ALL started - Scandals - this Sat
 urday, July 14th!!!\n \n\nFor more information visit https://vbnightl
 ife.com/events/deja-rox-scandals-on-saturday-july-14th
DTSTART:20120715T013000Z
DTEND:20120715T053000Z
CATEGORIES:live, music, performance
LOCATION:Scandal's - Mom's Kitchen
WEBSITE:http://www.dejaband.net
URL:http://www.dejaband.net
CONTACT:757-463-6667
ORGANIZER;CN="Drew Thow - DEJA":https://vbnightlife.com/profile/DrewTh
 owDEJA
ATTACH;FMTTYPE="image/jpeg":http://storage.ning.com/topology/rest/1.0/
 file/get/1664178203?profile=original
ATTENDEE;ROLE=REQ-PARTICIPANT;PARTSTAT=ACCEPTED;RSVP=TRUE;CN="Drew Tho
 w - DEJA":https://vbnightlife.com/profile/DrewThowDEJA
END:VEVENT
END:VCALENDAR
