BEGIN:VCALENDAR
PRODID:NingEventWidget-v1
VERSION:2.0
METHOD:PUBLISH
BEGIN:VEVENT
UID:2508951:Event:166636
DTSTAMP:20260420T105909Z
SUMMARY:DEJA rox 15th St. Raw Bar
DESCRIPTION:We'll kickin' the weekend right in the butt - so come out 
 and join us - you'll hear the best of Yes, Rush, Led Zep, Pink Floyd, 
 Boston, Styx, and SO much more!\n\nFor more information visit https://
 vbnightlife.com/events/deja-rox-15th-st-raw-bar-1
DTSTART:20110918T010000Z
DTEND:20110918T050000Z
CATEGORIES:live, music, performance
LOCATION:15th St. Raw Bar
WEBSITE:http://www.dejaband.net
URL:http://www.dejaband.net
CONTACT:757-491-1515
ORGANIZER;CN="Drew Thow - DEJA":https://vbnightlife.com/profile/DrewTh
 owDEJA
ATTACH;FMTTYPE="image/jpeg":http://storage.ning.com/topology/rest/1.0/
 file/get/1664149998?profile=original
ATTENDEE;ROLE=REQ-PARTICIPANT;PARTSTAT=ACCEPTED;RSVP=TRUE;CN="Drew Tho
 w - DEJA":https://vbnightlife.com/profile/DrewThowDEJA
END:VEVENT
END:VCALENDAR
