BEGIN:VCALENDAR
PRODID:NingEventWidget-v1
VERSION:2.0
METHOD:PUBLISH
BEGIN:VEVENT
UID:2508951:Event:75571
DTSTAMP:20260420T090601Z
SUMMARY:DEJA kicks off the weekend at South Beach
DESCRIPTION:Get your weekend started RIGHT - with us at South Beach Gr
 ill!  Great food & drink and the best staff in town!  Super fun atmo
 sphere - perfect place to meet old friends and make new ones!\n\nFor m
 ore information visit https://vbnightlife.com/events/deja-kicks-off-th
 e-weekend-at
DTSTART:20110319T010000Z
DTEND:20110319T050000Z
CATEGORIES:live, band, performance
LOCATION:South Beach Grill
WEBSITE:http://www.dejaband.net
URL:http://www.dejaband.net
CONTACT:(757) 714-2516
ORGANIZER;CN="Drew Thow - DEJA":https://vbnightlife.com/profile/DrewTh
 owDEJA
ATTACH;FMTTYPE="image/jpeg":http://storage.ning.com/topology/rest/1.0/
 file/get/1664132981?profile=original
ATTENDEE;ROLE=REQ-PARTICIPANT;PARTSTAT=ACCEPTED;RSVP=TRUE;CN="Drew Tho
 w - DEJA":https://vbnightlife.com/profile/DrewThowDEJA
END:VEVENT
END:VCALENDAR
