BEGIN:VCALENDAR
PRODID:NingEventWidget-v1
VERSION:2.0
METHOD:PUBLISH
BEGIN:VEVENT
UID:2508951:Event:166536
DTSTAMP:20260423T235216Z
SUMMARY:DEJA at South Beach Grill
DESCRIPTION:We're kickin' it Labor Day style at South Beach Grill - yo
 u don't have to go to work on Monday - so COME ON OUT & party with us!
 \n\nFor more information visit https://vbnightlife.com/events/deja-at-
 south-beach-grill-2
DTSTART:20110905T010000Z
DTEND:20110905T050000Z
CATEGORIES:live, music, performance
LOCATION:South Beach Bar & Grill
WEBSITE:http://www.dejaband.net
URL:http://www.dejaband.net
CONTACT:757-428-0820
ORGANIZER;CN="Drew Thow - DEJA":https://vbnightlife.com/profile/DrewTh
 owDEJA
ATTACH;FMTTYPE="image/jpeg":http://storage.ning.com/topology/rest/1.0/
 file/get/1664149551?profile=original
ATTENDEE;ROLE=REQ-PARTICIPANT;PARTSTAT=ACCEPTED;RSVP=TRUE;CN="John Col
 eman":https://vbnightlife.com/profile/JohnColeman
ATTENDEE;ROLE=REQ-PARTICIPANT;PARTSTAT=ACCEPTED;RSVP=TRUE;CN="Drew Tho
 w - DEJA":https://vbnightlife.com/profile/DrewThowDEJA
END:VEVENT
END:VCALENDAR
