BEGIN:VCALENDAR
PRODID:NingEventWidget-v1
VERSION:2.0
METHOD:PUBLISH
BEGIN:VEVENT
UID:2508951:Event:158849
DTSTAMP:20260424T120732Z
SUMMARY:DEJA at South Beach Grill
DESCRIPTION:Start your weekend right - with US at South Beach!  The b
 est food, staff & music!  It just doesn't get any better!\n\nFor more
  information visit https://vbnightlife.com/events/deja-at-south-beach-
 grill-1
DTSTART:20110730T013000Z
DTEND:20110730T053000Z
CATEGORIES:live, performance
LOCATION:South Beach Grill
WEBSITE:http://www.dejaband.net
URL:http://www.dejaband.net
CONTACT:757-428-0820
ORGANIZER;CN="Drew Thow - DEJA":https://vbnightlife.com/profile/DrewTh
 owDEJA
ATTACH;FMTTYPE="image/jpeg":http://storage.ning.com/topology/rest/1.0/
 file/get/1664148678?profile=original
ATTENDEE;ROLE=REQ-PARTICIPANT;PARTSTAT=ACCEPTED;RSVP=TRUE;CN="Drew Tho
 w - DEJA":https://vbnightlife.com/profile/DrewThowDEJA
END:VEVENT
END:VCALENDAR
