BEGIN:VCALENDAR
PRODID:NingEventWidget-v1
VERSION:2.0
METHOD:PUBLISH
BEGIN:VEVENT
UID:2508951:Event:49944
DTSTAMP:20260420T014131Z
SUMMARY:DeeJay the DeeJay live @Catch 31
DESCRIPTION:Come out to the best party at Catch 31. After the band fin
 ishes outside, DJ the DJ will keep the party going inside! With great 
 food and amazing drink specials all night, you can't miss Virginia Bea
 ch's hottest night spot! Come mention this AD and get Skybar passes to
  the only rooftop party at the ocean!!\n\nFor more information visit h
 ttps://vbnightlife.com/events/deejay-the-deejay-live-catch
DTSTART:20101017T020000Z
DTEND:20101017T060000Z
CATEGORIES:live, dj, party
LOCATION:Catch 31, Hilton, Oceanfront
WEBSITE:http://www.31ocean.com/Virginia-Beach-31-Ocean-Catch-31/Catch3
 1.aspx
URL:http://www.31ocean.com/Virginia-Beach-31-Ocean-Catch-31/Catch31.as
 px
CONTACT:(757) 213-3472
ORGANIZER:DeeJay the DeeJay
ATTACH;FMTTYPE="image/jpeg":http://storage.ning.com/topology/rest/1.0/
 file/get/1664118170?profile=original
ATTENDEE;ROLE=REQ-PARTICIPANT;PARTSTAT=ACCEPTED;RSVP=TRUE;CN=DJ:https:
 //vbnightlife.com/profile/DJ
END:VEVENT
END:VCALENDAR
