BEGIN:VCALENDAR
PRODID:NingEventWidget-v1
VERSION:2.0
METHOD:PUBLISH
BEGIN:VEVENT
UID:2508951:Event:9890
DTSTAMP:20260425T160208Z
SUMMARY:DAVID CYNAR @ LAZY HOUSE SALOON
DESCRIPTION:full band\n\n9:30\n\nFor more information visit https://vb
 nightlife.com/events/david-cynar-lazy-house-saloon
DTSTART:20090509T040000Z
DTEND:20090510T035900Z
CATEGORIES:band
LOCATION:Lazy Horse Saloon
WEBSITE:
URL:
CONTACT:
ORGANIZER:Lazy Horse Saloon
ATTACH;FMTTYPE="image/jpeg":http://storage.ning.com/topology/rest/1.0/
 file/get/1664070514?profile=original
ATTENDEE;ROLE=REQ-PARTICIPANT;PARTSTAT=ACCEPTED;RSVP=TRUE;CN="Nicole M
 axino":https://vbnightlife.com/profile/NicoleMaxino
END:VEVENT
END:VCALENDAR
