BEGIN:VCALENDAR
PRODID:NingEventWidget-v1
VERSION:2.0
METHOD:PUBLISH
BEGIN:VEVENT
UID:2508951:Event:7409
DTSTAMP:20260425T173558Z
SUMMARY:DARREN CARTER @ THE FUNNY BONE
DESCRIPTION:Darren Carter\n\nDarrenCarter continues to amaze and amuse
  standing room only audiences withhis blend of unique and multi-cultur
 al comedy. Moving to San Diego in 1993, Darren Carter worked the comed
 ycircuit there for two years and landed his first national commercialf
 or Miller Beer before moving to Los Angeles.During the nextthree years
 , he headlined at The Comedy Store, The Improv, The LaughFactory, Stan
 d-Up New York and performed on MTV's SpringBreak and Showtime's The La
 tino Laugh\n\nShow Times\nWednesday, March 18, 2009\n8:00 PM\n\nThursd
 ay, March 19, 2009\n8:00 PM\n\nFriday, March 20, 2009\n8:00 PM, 10:30 
 PM\n\nSaturday, March 21, 2009\n8:00 PM, 10:30 PM\n\nSunday, March 22,
  2009\n7:00 PM\n\nFor more information visit https://vbnightlife.com/e
 vents/darren-carter-the-funny-bone
DTSTART:20090323T000000Z
DTEND:20090323T030000Z
CATEGORIES:comedy
LOCATION:The Virginia Beach Funny Bone
WEBSITE:
URL:
CONTACT:
ORGANIZER:The Virginia Beach Funny Bone
ATTACH;FMTTYPE="image/jpeg":http://storage.ning.com/topology/rest/1.0/
 file/get/3723680248?profile=original
ATTENDEE;ROLE=REQ-PARTICIPANT;PARTSTAT=ACCEPTED;RSVP=TRUE;CN="Nicole M
 axino":https://vbnightlife.com/profile/NicoleMaxino
END:VEVENT
END:VCALENDAR
