BEGIN:VCALENDAR
PRODID:NingEventWidget-v1
VERSION:2.0
METHOD:PUBLISH
BEGIN:VEVENT
UID:2508951:Event:173037
DTSTAMP:20260420T134320Z
SUMMARY:Danny Gokey
DESCRIPTION:Danny Gokey will be live on stage!!!!\n\nFor more informat
 ion visit https://vbnightlife.com/events/danny-gokey
DTSTART:20111006T230000Z
DTEND:20111007T030000Z
CATEGORIES:concert
LOCATION:Knuckleheads Roadhouse
WEBSITE:http://www.knuckleheadsvb.com
URL:http://www.knuckleheadsvb.com
CONTACT:757-644-6200
ORGANIZER:Knuckleheads Roadhouse
ATTACH;FMTTYPE="image/jpeg":
ATTENDEE;ROLE=REQ-PARTICIPANT;PARTSTAT=ACCEPTED;RSVP=TRUE;CN="James Sp
 agnuolo":https://vbnightlife.com/profile/JamesSpagnuolo
END:VEVENT
END:VCALENDAR
