BEGIN:VCALENDAR
PRODID:NingEventWidget-v1
VERSION:2.0
METHOD:PUBLISH
BEGIN:VEVENT
UID:2508951:Event:316840
DTSTAMP:20260424T121017Z
SUMMARY:Damn Jankes trio @ Lulu's Smokehouse
DESCRIPTION:Nightmare Before Christmas\nHalloween Party!!!\n \nDamn J
 ankes trio (Dan, Denny and Randy) is an eclectic original/cover rock b
 and – a “Kitchen Sink” stew of alt.country, roots rock, rock ’
 n roll, blues, shuffles, pop, and even a little reggae.\n \nwww.DamnJ
 ankes.com\n\n\nFor more information visit https://vbnightlife.com/even
 ts/damn-jankes-trio-lulu-s-smokehouse
DTSTART:20151101T003000Z
DTEND:20151101T033000Z
CATEGORIES:music
LOCATION:Lulu's Smokehouse
WEBSITE:http://www.DamnJankes.com
URL:http://www.DamnJankes.com
CONTACT:(757) 430-2200
ORGANIZER;CN="DJ Janke":https://vbnightlife.com/profile/DJJanke
ATTACH;FMTTYPE="image/jpeg":http://storage.ning.com/topology/rest/1.0/
 file/get/1664289394?profile=original
ATTENDEE;ROLE=REQ-PARTICIPANT;PARTSTAT=ACCEPTED;RSVP=TRUE;CN="DJ Janke
 ":https://vbnightlife.com/profile/DJJanke
END:VEVENT
END:VCALENDAR
