BEGIN:VCALENDAR
PRODID:NingEventWidget-v1
VERSION:2.0
METHOD:PUBLISH
BEGIN:VEVENT
UID:2508951:Event:311860
DTSTAMP:20260425T122042Z
SUMMARY:Damn Jankes @ The Chair Place
DESCRIPTION:Damn Jankes is an eclectic original/cover rock band – a 
 “Kitchen Sink” stew of alt.country, roots rock, rock ’n roll, bl
 ues, shuffles, pop, and even a little reggae.  www.DamnJankes.com  Fri
 ends of The Chair Place 33638 Craddockville Rd (Corner of Rts. 614 & 6
 15) Craddockville, VA  $10 donation goes to rebuilding fund  for The C
 hair Place Please check out this video http://www.gofundme.com/chairpl
 ace\n\nFor more information visit https://vbnightlife.com/events/damn-
 jankes-the-chair-place
DTSTART:20150627T223000Z
DTEND:20150628T023000Z
CATEGORIES:music
LOCATION:The Chair Place
WEBSITE:http://www.DamnJankes.com
URL:http://www.DamnJankes.com
CONTACT:(757) 442-7290
ORGANIZER;CN="DJ Janke":https://vbnightlife.com/profile/DJJanke
ATTACH;FMTTYPE="image/jpeg":http://storage.ning.com/topology/rest/1.0/
 file/get/1664275322?profile=original
ATTENDEE;ROLE=REQ-PARTICIPANT;PARTSTAT=ACCEPTED;RSVP=TRUE;CN="DJ Janke
 ":https://vbnightlife.com/profile/DJJanke
END:VEVENT
END:VCALENDAR
