BEGIN:VCALENDAR
PRODID:NingEventWidget-v1
VERSION:2.0
METHOD:PUBLISH
BEGIN:VEVENT
UID:2508951:Event:311857
DTSTAMP:20260425T075152Z
SUMMARY:Damn Jankes @ Fresh Eats & Drinks
DESCRIPTION:Damn Jankes is an eclectic original/cover rock band – a 
 “Kitchen Sink” stew of alt.country, roots rock, rock ’n roll, bl
 ues, shuffles, pop, and even a little reggae.\nwww.DamnJankes.com\n\nF
 or more information visit https://vbnightlife.com/events/damn-jankes-f
 resh-eats-drinks
DTSTART:20150627T010000Z
DTEND:20150627T034500Z
CATEGORIES:music
LOCATION:Fresh Eats & Drinks
WEBSITE:http://www.DamnJankes.com
URL:http://www.DamnJankes.com
CONTACT:(757) 430-8700
ORGANIZER;CN="DJ Janke":https://vbnightlife.com/profile/DJJanke
ATTACH;FMTTYPE="image/jpeg":http://storage.ning.com/topology/rest/1.0/
 file/get/1664275283?profile=original
ATTENDEE;ROLE=REQ-PARTICIPANT;PARTSTAT=ACCEPTED;RSVP=TRUE;CN="DJ Janke
 ":https://vbnightlife.com/profile/DJJanke
END:VEVENT
END:VCALENDAR
