BEGIN:VCALENDAR
PRODID:NingEventWidget-v1
VERSION:2.0
METHOD:PUBLISH
BEGIN:VEVENT
UID:2508951:Event:323616
DTSTAMP:20260420T105338Z
SUMMARY:Damn Jankes @ Fresh Eats & Drinks
DESCRIPTION:Damn Jankes is an eclectic original/cover band – a “Ki
 tchen Sink” stew of Americana, alt.country, roots rock, rock ’n ro
 ll, blues, shuffles, pop, and even a little reggae.  www.DamnJankes.co
 m\n\nFor more information visit https://vbnightlife.com/events/damn-ja
 nkes-fresh-eats-drinks-6
DTSTART:20160131T020000Z
DTEND:20160131T050000Z
CATEGORIES:music
LOCATION:Fresh Eats & Drinks
WEBSITE:http://www.DamnJankes.com
URL:http://www.DamnJankes.com
CONTACT:(757) 430-8700
ORGANIZER;CN="DJ Janke":https://vbnightlife.com/profile/DJJanke
ATTACH;FMTTYPE="image/jpeg":http://storage.ning.com/topology/rest/1.0/
 file/get/1664294816?profile=original
ATTENDEE;ROLE=REQ-PARTICIPANT;PARTSTAT=ACCEPTED;RSVP=TRUE;CN="DJ Janke
 ":https://vbnightlife.com/profile/DJJanke
END:VEVENT
END:VCALENDAR
