BEGIN:VCALENDAR
PRODID:NingEventWidget-v1
VERSION:2.0
METHOD:PUBLISH
BEGIN:VEVENT
UID:2508951:Event:13264
DTSTAMP:20260425T142406Z
SUMMARY:Dahna Rowe
DESCRIPTION:dahna rowe and the fellas at GARRISON'S BAR AND GRILL toni
 ght. (friday may 8th) at 10pm.\n\nFor more information visit https://v
 bnightlife.com/events/dahna-rowe
DTSTART:20090509T020000Z
DTEND:20090509T053000Z
CATEGORIES:live, show
LOCATION:GARRISON'S BAR AND GRILL
WEBSITE:
URL:
CONTACT:
ORGANIZER;CN="dahna rowe":https://vbnightlife.com/profile/dahnarowe
ATTACH;FMTTYPE="image/jpeg":http://storage.ning.com/topology/rest/1.0/
 file/get/1664073745?profile=original
ATTENDEE;ROLE=REQ-PARTICIPANT;PARTSTAT=ACCEPTED;RSVP=TRUE;CN="dahna ro
 we":https://vbnightlife.com/profile/dahnarowe
END:VEVENT
END:VCALENDAR
