BEGIN:VCALENDAR
PRODID:NingEventWidget-v1
VERSION:2.0
METHOD:PUBLISH
BEGIN:VEVENT
UID:2508951:Event:12143
DTSTAMP:20260422T233950Z
SUMMARY:Dahna Rowe and the fellas at garrison's TONIGHT 10pm
DESCRIPTION:Dahna rowe, paul stalls, and johnathan friedman will be pe
 rforming at garrison't bar and grill, in the renaissance square shops 
 on great neck road at 10pm tonight.\n\nFor more information visit http
 s://vbnightlife.com/events/dahna-rowe-and-the-fellas-at-1
DTSTART:20090426T020000Z
DTEND:20090426T053000Z
CATEGORIES:musical, event
LOCATION:GARRISON'S BAR AND GRILL
WEBSITE:
URL:
CONTACT:
ORGANIZER;CN="dahna rowe":https://vbnightlife.com/profile/dahnarowe
ATTACH;FMTTYPE="image/jpeg":
ATTENDEE;ROLE=REQ-PARTICIPANT;PARTSTAT=ACCEPTED;RSVP=TRUE;CN="dahna ro
 we":https://vbnightlife.com/profile/dahnarowe
END:VEVENT
END:VCALENDAR
