BEGIN:VCALENDAR
PRODID:NingEventWidget-v1
VERSION:2.0
METHOD:PUBLISH
BEGIN:VEVENT
UID:2508951:Event:8604
DTSTAMP:20260421T151704Z
SUMMARY:CRUE FEST 2 @ VERIZON WIRELESS AMPHITHEATER - ARRIVE EARLY TO 
 CATCH CHASING CORONA!!
DESCRIPTION:Friday, August 21 at 4:05 PM\nVerizon Wireless Virginia Be
 ach Amphitheater\n\n\nParking: 3:00 PM\nDoors: 4:00 PM\n\nMonster Ener
 gy Drink Side Stage\nwill be located in parking lot\n4:05 PM: Chasing 
 Corona\n4:30 PM: 16 Second Stare\n5:30 PM: Shram\n6:25 PM: Cavo\n7:30 
 PM: Rev Theory\n\nMain Stage\n4:50 PM: Charm City Devils\n5:40 PM: Dro
 wning Pool\n6:40 PM: Theory of a Deadman\n7:50 PM: Godsmack\n9:15 PM: 
 Motley Crue\n\nAll times subject to change without notice!\n\nFor more
  information visit https://vbnightlife.com/events/crue-fest-2-verizon-
 wireless
DTSTART:20090821T110000Z
DTEND:20090822T030000Z
CATEGORIES:concert
LOCATION:Verizon Wireless Amphitheater Virginia Beach
WEBSITE:
URL:
CONTACT:
ORGANIZER;CN="Nicole Maxino":https://vbnightlife.com/profile/NicoleMax
 ino
ATTACH;FMTTYPE="image/jpeg":http://storage.ning.com/topology/rest/1.0/
 file/get/1664070179?profile=original
ATTENDEE;ROLE=REQ-PARTICIPANT;PARTSTAT=ACCEPTED;RSVP=TRUE;CN="Nicole M
 axino":https://vbnightlife.com/profile/NicoleMaxino
END:VEVENT
END:VCALENDAR
