BEGIN:VCALENDAR
PRODID:NingEventWidget-v1
VERSION:2.0
METHOD:PUBLISH
BEGIN:VEVENT
UID:2508951:Event:13105
DTSTAMP:20260420T035158Z
SUMMARY:CROZET MUSIC FESTIVAL
DESCRIPTION:For the third year running, the Crozet Music Festival brin
 gs together the best in local, regional, and national music for a week
 end of eclectic entertainment. And this year, we're expanding to inclu
 de Friday!\n\nThe festival will be held October 2nd through 4th at Mis
 ty Mountain. Local food vendors, breweries and wineries will be on han
 d all weekend long.\n\nMain stage\nFriday, Oct. 2\n\n12:00 Fever and t
 he Fallin' Rain\n1:00 The Ultraviolet Ballet\n2:00 Travis Elliott\n3:0
 0 Shad Dart\n4:00 Straight Punch to the Crotch\n5:00 Raw Dawg\n6:00 6 
 Day Bender\n7:00 Kings of Belmont\n8:00 William Walter & Co.\n\nMain S
 tage Saturday, Oct. 3\n\n12:00 Chick Tragic and the Roosters\n1:00 Hog
 waller Ramblers\n2:00 Alex Mejias\n3:00 The Atkinsons\n4:00 Paul Curre
 ri and Devon Sproule\n5:00 6 Chasing 7\n6:00 Tim Be Told\n7:00 Downbea
 t Project\n8:00 Trees on Fire\n\nMain Stage Sunday, Oct. 4\n\n12:00 Ka
 therine Caine\n1:00 Cathy Ponton King\n2:00 Mariana Bell\n3:00 Blues F
 arm\n4:00 Gladstones\n5:00 Mando Mafia\n6:00 Nathan Moore\n7:00 Rogan 
 Brothers\n8:00 Alligator\nIndoor Stage\n\nIndoor Stage Friday, Oct. 2\
 n\n12:30 Shock Therapy\n1:30 Identity Crisis\n2:30 Centric\n3:30 The K
 erns\n4:30 Casa de Chihuahua\n5:30 Horsehead\n6:30 Righteous Friendz\n
 \nIndoor Stage Saturday, Oct. 3\n\n12:30 Burnley Station\n1:30 Post No
  Bills\n2:30 David Tewksbury\n3:30 Dave Nealon\n4:30 Peyton Tochterman
 \n5:30 Will Thomas\n6:30 The Lost Souls\n\n\n\nIndoor Stage Sunday, Oc
 t. 4\n\n12:30 Wes Swing\n1:30 Hobo Jac\n2:30 Joanne Juskus\n3:30 Jeebu
 s\n4:30 Greg Brown\n5:30 Martinez and Guthrie\n6:30 Chez Roue\n7:30 Ti
 ger Lily\n\nFeaturing over 25 exceptional music acts, food, and festiv
 ities, the annual Crozet Music Festival is exactly what Crozet is: ecl
 ectic, family-oriented, American, and a heck of a good time.\n\n5 year
 s in the making, the Crozet Music Festival was backed by a host of loc
 al business sponsors, artists, and music lovers.\n\nAs a community eve
 nt, the proceeds support the development plans of area non-profits. An
 d what’s more - It's a blast!\n\nFor more information visit https://
 vbnightlife.com/events/crozet-music-festival
DTSTART:20091002T220000Z
DTEND:20091004T230000Z
CATEGORIES:festival
LOCATION:Crozet, VA
WEBSITE:
URL:
CONTACT:
ORGANIZER;CN="Nicole Maxino":https://vbnightlife.com/profile/NicoleMax
 ino
ATTACH;FMTTYPE="image/jpeg":http://storage.ning.com/topology/rest/1.0/
 file/get/1664074163?profile=original
ATTENDEE;ROLE=REQ-PARTICIPANT;PARTSTAT=ACCEPTED;RSVP=TRUE;CN="Nicole M
 axino":https://vbnightlife.com/profile/NicoleMaxino
END:VEVENT
END:VCALENDAR
