BEGIN:VCALENDAR
PRODID:NingEventWidget-v1
VERSION:2.0
METHOD:PUBLISH
BEGIN:VEVENT
UID:2508951:Event:318587
DTSTAMP:20260424T050211Z
SUMMARY:DISCOUNT TICKETS TO CRAFT BEER TOUR OF Ghent & Chelsea in Norf
 olk
DESCRIPTION:SEE DETAILS AND PURCHASE YOUR DISCOUNTED VOUCHERS HERE:  
 www.VBhotdeals.com\nWhy we Love this Event: \n\n\nFor more informatio
 n visit https://vbnightlife.com/events/craft-beer-tour-of-ghent-chelse
 a-in-norfolk
DTSTART:20151121T050000Z
DTEND:20151122T045900Z
CATEGORIES:"beer fest", "norfolk, va"
LOCATION:Ghent and Chelsea in Norfolk
WEBSITE:
URL:
CONTACT:
ORGANIZER:VBnightlife.com / GO LOCAL 757
ATTACH;FMTTYPE="image/jpeg":http://storage.ning.com/topology/rest/1.0/
 file/get/1664292596?profile=original
ATTENDEE;ROLE=REQ-PARTICIPANT;PARTSTAT=ACCEPTED;RSVP=TRUE;CN="VBnightl
 ife.com":https://vbnightlife.com/profile/admin
END:VEVENT
END:VCALENDAR
