BEGIN:VCALENDAR
PRODID:NingEventWidget-v1
VERSION:2.0
METHOD:PUBLISH
BEGIN:VEVENT
UID:2508951:Event:7387
DTSTAMP:20260425T215231Z
SUMMARY:COUNTRY MEGATICKET 2009
DESCRIPTION:Friday, June 12 - GEORGE STRAIT w/ Blake Shelton & Juliann
 e Hough\n\nThursday, June 25 KENNY CHESNEY w/ Miranda Lambert & Lady A
 ntebellum\n\nFriday, July 10 - TODY KEITH w/ Trace Adkins\n\nFriday, J
 uly 24 - BRAD PAISLEY w/ Dierks Bentley & Jimmy Wayne\n\nThursday, Sep
 tember 10 - RASCAL FLATTS w/ Darius Rucker\n\nFor more information vis
 it https://vbnightlife.com/events/country-megaticket-2009
DTSTART:20090306T150000Z
DTEND:20090307T000000Z
CATEGORIES:concert
LOCATION:Verizon Wireless Amphitheater Virginia Beach
WEBSITE:
URL:
CONTACT:
ORGANIZER:Verizon Wireless Amphitheater Virginia Beach
ATTACH;FMTTYPE="image/jpeg":http://storage.ning.com/topology/rest/1.0/
 file/get/1664069252?profile=original
ATTENDEE;ROLE=REQ-PARTICIPANT;PARTSTAT=ACCEPTED;RSVP=TRUE;CN="Nicole M
 axino":https://vbnightlife.com/profile/NicoleMaxino
END:VEVENT
END:VCALENDAR
