BEGIN:VCALENDAR
PRODID:NingEventWidget-v1
VERSION:2.0
METHOD:PUBLISH
BEGIN:VEVENT
UID:2508951:Event:7350
DTSTAMP:20260425T185217Z
SUMMARY:CORKS & CANVAS to benefit Seton Youth Shelters
DESCRIPTION:Corks & Canvas\nwine..art..jazz\n\nA wine tasting and art 
 show to benefit Seton Youth Shelters\n\nSunday, March 22nd 3 - 6 PM\nW
 yndham Oceanfront Hotel, Virginia Beach\nTickets $50 per person\n\nExp
 erience wine from around the world selected by Marc Sauter, Sommelier 
 at the Wyndham’s Surf Club in Virginia Beach. Excellent selections o
 f food pairings will compliment our wine tasting\n\nshowcasing collect
 ions by premier local artists, live jazz by The FOR TRIO (with Cameron
  Quinn), silent art & wine auction, hors d' oeuvres\n\ntickets are $50
  per person\ncall 963-5795 ext 101 or visit www.setonyouthshelters.org
 \n\nFor more information visit https://vbnightlife.com/events/corks-ca
 nvas-to-benefit-seton
DTSTART:20090322T190000Z
DTEND:20090322T220000Z
CATEGORIES:fundraiser
LOCATION:Wyndham Virginia Beach Oceanfront
WEBSITE:
URL:
CONTACT:
ORGANIZER:Wyndham Virginia Beach Oceanfront
ATTACH;FMTTYPE="image/jpeg":http://storage.ning.com/topology/rest/1.0/
 file/get/3723680049?profile=original
ATTENDEE;ROLE=REQ-PARTICIPANT;PARTSTAT=ACCEPTED;RSVP=TRUE;CN="Nicole M
 axino":https://vbnightlife.com/profile/NicoleMaxino
END:VEVENT
END:VCALENDAR
