BEGIN:VCALENDAR
PRODID:NingEventWidget-v1
VERSION:2.0
METHOD:PUBLISH
BEGIN:VEVENT
UID:2508951:Event:17927
DTSTAMP:20260425T160402Z
SUMMARY:COOLIN' OUT ON THE 7TH STREET STAGE
DESCRIPTION:BEACH MUSIC THEN FIREWORKS @10\n\nFor more information vis
 it https://vbnightlife.com/events/coolin-out-on-the-7th-street
DTSTART:20090729T220000Z
DTEND:20090730T020000Z
CATEGORIES:band
LOCATION:7th Street Stage
WEBSITE:
URL:
CONTACT:
ORGANIZER;CN="VBnightlife.com":https://vbnightlife.com/profile/admin
ATTACH;FMTTYPE="image/jpeg":http://storage.ning.com/topology/rest/1.0/
 file/get/1664079908?profile=original
ATTENDEE;ROLE=REQ-PARTICIPANT;PARTSTAT=ACCEPTED;RSVP=TRUE;CN="VBnightl
 ife.com":https://vbnightlife.com/profile/admin
END:VEVENT
END:VCALENDAR
