BEGIN:VCALENDAR
PRODID:NingEventWidget-v1
VERSION:2.0
METHOD:PUBLISH
BEGIN:VEVENT
UID:2508951:Event:83794
DTSTAMP:20260420T103306Z
SUMMARY:Contemporary Arts Center of Virginia presents Ricky Powell Str
 eet Photography!
DESCRIPTION:\n\nFor more information visit https://vbnightlife.com/eve
 nts/contemporary-arts-center-of
DTSTART:20110317T230000Z
DTEND:20110318T010000Z
CATEGORIES:arts
LOCATION:Contemproary Art Center of Virginia
WEBSITE:
URL:
CONTACT:(757) 425-0000
ORGANIZER;CN="VBnightlife.com":https://vbnightlife.com/profile/admin
ATTACH;FMTTYPE="image/jpeg":http://storage.ning.com/topology/rest/1.0/
 file/get/1664137722?profile=original
ATTENDEE;ROLE=REQ-PARTICIPANT;PARTSTAT=ACCEPTED;RSVP=TRUE;CN="VBnightl
 ife.com":https://vbnightlife.com/profile/admin
END:VEVENT
END:VCALENDAR
