BEGIN:VCALENDAR
PRODID:NingEventWidget-v1
VERSION:2.0
METHOD:PUBLISH
BEGIN:VEVENT
UID:2508951:Event:333930
DTSTAMP:20260422T192818Z
SUMMARY:CONCERT ANNOUNCEMENTS: Miranda Lambert, Steely Dan, Goo Goo Do
 lls & More!
DESCRIPTION:Veterans United Home Loans Amphitheater at Virginia Beach 
 has added more concerts to its 2016 schedule. Performers announce toda
 y: Miranda Lambert, Kip Moore and Brothers Osborne will play May 20. T
 icket sales begin Feb. 26. Steely Dan and Steve Winwood will play July
  13. Ticket sales begin March 5. Goo Goo Dolls, Collective Soul and Tr
 ibe Society will play Aug. 24. Ticket sales begin Feb. 26.\nTickets ca
 n be purchased at livenation.com or at the amphitheater box office.\n
 \nFor more information visit https://vbnightlife.com/events/concert-an
 nouncements-miranda-lambert-steely-dan-goo-goo-dolls-mo
DTSTART:20160223T050000Z
DTEND:20160224T045900Z
CATEGORIES:concerts, "virginia beach amphitheater"
LOCATION:Veterans United Home Loans Amphitheater
WEBSITE:
URL:
CONTACT:
ORGANIZER:VBnightlife.com / VBdaylife.com / VBhotdeals.com
ATTACH;FMTTYPE="image/jpeg":http://storage.ning.com/topology/rest/1.0/
 file/get/1664302533?profile=original
ATTENDEE;ROLE=REQ-PARTICIPANT;PARTSTAT=ACCEPTED;RSVP=TRUE;CN="VBnightl
 ife.com":https://vbnightlife.com/profile/admin
END:VEVENT
END:VCALENDAR
