BEGIN:VCALENDAR
PRODID:NingEventWidget-v1
VERSION:2.0
METHOD:PUBLISH
BEGIN:VEVENT
UID:2508951:Event:313957
DTSTAMP:20260422T090334Z
SUMMARY:NEPTUNE'S COASTAL CRAFT BEER FEST
DESCRIPTION:\nThis inaugural event will feature local Virginia beers a
 nd cask ales, as well national and regional craft beers. Over fifty be
 ers from twenty-three breweries will be featured. The festival also in
 cludes live music Jacob Vanko Band (1pm – 3pm) The Whiskey Rebellion
  (3:30pm – 6 pm) and a selection of the region’s finest food truck
 s.\n\nPURCHASE TICKETS HERE: http://neptunefestival.ticketmob.com/eve
 nt.cfm?cart&id=102090\n\nFor more information visit https://vbnightlif
 e.com/events/coastal-craft-beer-fest
DTSTART:20150829T170000Z
DTEND:20150829T220000Z
CATEGORIES:"virginia beach", "virginia beach nightlife", "virginia bea
 ch bands", "virginia beach entertainment", "events in virginia beach",
  "things to do in virginia beach", "mobile app virginia beach"
LOCATION:NEPTUNE PARK
WEBSITE:
URL:
CONTACT:
ORGANIZER:NEPTUNE FESTIVAL
ATTACH;FMTTYPE="image/jpeg":http://storage.ning.com/topology/rest/1.0/
 file/get/1664286215?profile=original
ATTENDEE;ROLE=REQ-PARTICIPANT;PARTSTAT=ACCEPTED;RSVP=TRUE;CN="VBnightl
 ife.com":https://vbnightlife.com/profile/admin
END:VEVENT
END:VCALENDAR
