BEGIN:VCALENDAR
PRODID:NingEventWidget-v1
VERSION:2.0
METHOD:PUBLISH
BEGIN:VEVENT
UID:2508951:Event:188178
DTSTAMP:20260422T134240Z
SUMMARY:Click here WEDNESDAY 2/15/12 VIRGINIA BEACH ENTERTAINMENT LIST
 INGS
DESCRIPTION:LIVE ENTERTAINMENT\nAbbey Road- Open Stage\nBoneshakers -
  Chuck's Birthday Bash and Cheaper Than Therapy 7pm\nElement Lounge- W
 ine Down Wednesdays w/DJ Problem & DJ Havoc\nH20- Lewis McGehee\nHot T
 una- DJ Can Rock, 9PM\nHavanah Nights- Harris Simon Duo, 8-11PM\nKross
 roads- West & Daniels\nKnuckleheads- Ladies Night (Every Wednesday)\nS
 easide Raw Bar - Eazy D (Every Wednesday)\nSouth Beach Grill- Vinyl He
 adlights\nSurf Club Ocean Grill - Brent Shepard + North End Wine Tast
 ing\nNat's -  Justin & Jonathan \n\nTHEATRE/FUNDRAISERS/CONCERTS/SPO
 RTS:\nFunny Bone Comedy Club -Rob Maher, Dawn B Comedy Hustle\nNaro Ex
 panded Cinema (Norfolk) - Veer Local Music Awards\nSandler Canter- Ar
 tbeat presents In the Mood: 1940's Big Band Revue\n\nDJ’S/KARAOKE/D
 ANCES:\nAJ Gators- Karaoke w/ Scotty, 9PM\nBrass Bell- Karaoke\nRetro 
 Cafe- Karaoke\nCabo- DJ Bryan One & Tias\nChicho’s 29th - *KARAOKE\n
 Geared Up- Karaoke & Rockband III\nHot Tuna - DJ\nPoppa’s Pub - *KAR
 AOKE* 9:30PM\nJewish Mother- MOMS KARAOKE 8pm\nPoppa Grande - Rico Fu
 Latino's 2nd Annual Valentine's Party\nStarz- Karaoke\nWoodys- Beer Po
 ng Tournament ($150 Cash Prize), 10PM\nWannaBs- Karaoke, 7PM-2AM (Mond
 ay-Saturday, 21+)\n\nCLICK HERE FOR HAPPY HOUR DEALS\nCLICK HERE REACH
  OUR VENUE'S PAGE \nCLICK HERE FOR OUR BAND/DJ PAGE\n\nFor more infor
 mation visit https://vbnightlife.com/events/click-here-wednesday-2-15-
 12-virginia-beach-entertainment
DTSTART:20120215T050000Z
DTEND:20120216T045900Z
CATEGORIES:"virgina beach entertainment", "virginia beach nightlife", 
 "virginia beach bands"
LOCATION:Virginia Beach
WEBSITE:
URL:
CONTACT:
ORGANIZER;CN="VBnightlife.com":https://vbnightlife.com/profile/admin
ATTACH;FMTTYPE="image/jpeg":http://storage.ning.com/topology/rest/1.0/
 file/get/1664159803?profile=original
ATTENDEE;ROLE=REQ-PARTICIPANT;PARTSTAT=ACCEPTED;RSVP=TRUE;CN="Rolan St
 ears":https://vbnightlife.com/profile/RolanStears
ATTENDEE;ROLE=REQ-PARTICIPANT;PARTSTAT=ACCEPTED;RSVP=TRUE;CN="VBnightl
 ife.com":https://vbnightlife.com/profile/admin
END:VEVENT
END:VCALENDAR
