BEGIN:VCALENDAR
PRODID:NingEventWidget-v1
VERSION:2.0
METHOD:PUBLISH
BEGIN:VEVENT
UID:2508951:Event:10639
DTSTAMP:20260425T130003Z
SUMMARY:click here for WEDNESDAY'S BAND / EVENTS LISTING
DESCRIPTION:501 - PIZZA NIGHT & HAPPY HOUR\n757 - THE JRB\nAbbey Road 
 - OPEN STAGE /w \"DAVID PETRETTO\nAJ Gators - Holland Rd - KARAOKE W/ 
 SCOTTY 9PM\nAJ Gators - Granby - DJ WHIT 9PM\nAtlas Diner - HAPPY HOUR
  2PM TO 7PM $2 CORONA (DAILY)\nAwful Arthur's - HAPPY HOUR 3PM TO 7PM 
 (DAILY)\nCabo Cafe - HAPPY HOUR &AYCE CRAB LEGS AND SHRIMP\nCentral 11
 1 - DJ\nChichos 21 &Atlantic - HAPPY HOUR 6-9PM (DAILY)\nChrysler Muse
 um Of Art - LIVE JAZZ SERIES - Norfolk 6:15pm \"UNDER KONSTRUXION\nFar
 enheit - Norfolk\nFin - Port Warwick - NN \"JOE MANISCALCO\" 6:30-8:30
 pm\nFinn McCools - VB \"KEVIN BLEAKLEY\" 9pm\nGreen Parrot Grille - HA
 PPY HOUR 12PM TO 8PM (DAILY)\nH2O - VB \"NATURE'S CHILD\nHot Tuna - VB
  \"SNACKBAR JONES\nKeagans - Jefferson Commons - NN \"JOHN HARRELL\" 1
 0pm\nKeagans - Town Center - VB \"JESSE CHONG\" 10pm\nKokoamos - KATE 
 & DAVE ACOUSTICS\nMambo Room - SALSA PARTY\nMurphy's Irish Pub - VB \"
 VAL LITTLE\nParlays - HAPPY HOUR\nSouth Beach Grill - VB \"VINYL HEADL
 IGHTS\"\nTap House - Norfolk \"UNWED SAILOR\"\nThirsty Camel - Ocean V
 iew - Norfolk \"BORDERLINE CRAZY\" acoustic 8pm\nTiki Seagrille - VB \
 "USED MUSIC\n\nFor more information visit https://vbnightlife.com/even
 ts/click-here-for-wednesdays-band
DTSTART:20090408T040000Z
DTEND:20090409T035900Z
CATEGORIES:live, music
LOCATION:Virginia Beach
WEBSITE:
URL:
CONTACT:
ORGANIZER;CN="Nicole Maxino":https://vbnightlife.com/profile/NicoleMax
 ino
ATTACH;FMTTYPE="image/jpeg":http://storage.ning.com/topology/rest/1.0/
 file/get/1664072396?profile=original
ATTENDEE;ROLE=REQ-PARTICIPANT;PARTSTAT=ACCEPTED;RSVP=TRUE;CN="Nicole M
 axino":https://vbnightlife.com/profile/NicoleMaxino
END:VEVENT
END:VCALENDAR
