BEGIN:VCALENDAR
PRODID:NingEventWidget-v1
VERSION:2.0
METHOD:PUBLISH
BEGIN:VEVENT
UID:2508951:Event:14210
DTSTAMP:20260425T130050Z
SUMMARY:click here for WEDNESDAY'S BAND / EVENT LISTING
DESCRIPTION:Abbey Road - Va Beach \"TIM BEASLEY\" as John Lennon\nCent
 ral 111 - STEVE ABITBOL\nChrysler Museum Of Art - LIVE JAZZ SERIES - N
 orfolk 6:15pm \"BILLY WILLIAMS\nCozumel - KIND OF A BIG DEAL\nFinn McC
 ool's - VB \"JACK BECKER\" 9pm\nFunny Bone - MARK EDDIE\nH2O - VB \"NA
 TURE'S CHILD\"\nHot Tuna - SNACKBAR JONES\nKeagans - Town Center - VB 
 \"JESSE CHONG\" 10pm\nKokoamos - PLASTIC EDDIE - 7 TO 10 ON THE DECK\n
 Murphy's Irish Pub - VB \"JOHN ICKES\nOcean House - JOHN BALDWIN\nSan 
 Antonio Sams - Ghent - Norfolk \"LEWIS McGEHEE\" 7-10pm\nSouth Beach G
 rill - VB \"HOTCAKES\"\nTiki Seagrille - Sandbridge Rd - VB \"JANITORS
 \nWave Church - HILLSONG UNITED\n\nOUTDOOR EVENTS\n17th street stage -
  SKYLARK\n31st STREET STAGE - LEWIS McGEHEE and FAB\n\nOCEAN HOUSE - V
 B \"JOHN BALDWIN\" solo\n\nFor more information visit https://vbnightl
 ife.com/events/click-here-for-wednesdays-band-8
DTSTART:20090603T040000Z
DTEND:20090604T035900Z
CATEGORIES:band, dj
LOCATION:Virginia Beach / Norfolk
WEBSITE:
URL:
CONTACT:
ORGANIZER;CN="VBnightlife.com":https://vbnightlife.com/profile/admin
ATTACH;FMTTYPE="image/jpeg":http://storage.ning.com/topology/rest/1.0/
 file/get/1664074843?profile=original
ATTENDEE;ROLE=REQ-PARTICIPANT;PARTSTAT=ACCEPTED;RSVP=TRUE;CN="Alan Boy
 nton":https://vbnightlife.com/profile/AlanBoynton
ATTENDEE;ROLE=REQ-PARTICIPANT;PARTSTAT=ACCEPTED;RSVP=TRUE;CN="VBnightl
 ife.com":https://vbnightlife.com/profile/admin
END:VEVENT
END:VCALENDAR
